BEGIN:VCALENDAR
VERSION:2.0
PRODID:-//Coach House Pub - ECPv6.15.20//NONSGML v1.0//EN
CALSCALE:GREGORIAN
METHOD:PUBLISH
X-WR-CALNAME:Coach House Pub
X-ORIGINAL-URL:https://coachhousepub.com
X-WR-CALDESC:Events for Coach House Pub
REFRESH-INTERVAL;VALUE=DURATION:PT1H
X-Robots-Tag:noindex
X-PUBLISHED-TTL:PT1H
BEGIN:VTIMEZONE
TZID:UTC
BEGIN:STANDARD
TZOFFSETFROM:+0000
TZOFFSETTO:+0000
TZNAME:UTC
DTSTART:20200101T000000
END:STANDARD
END:VTIMEZONE
BEGIN:VEVENT
DTSTART;TZID=UTC:20210821T140000
DTEND;TZID=UTC:20210821T170000
DTSTAMP:20260423T054912
CREATED:20210727T163238Z
LAST-MODIFIED:20210816T205727Z
UID:103-1629554400-1629565200@coachhousepub.com
SUMMARY:SLIME DOGS – Saturday August 21
DESCRIPTION:Come party with Toronto’s favourite party rock band\, the Slime Dogs will be rocking the Coach House Pub Patio Sessions for an afternoon of fun with a collection of all your favourite party rock tunes. \nTell your friends and book a table now this will be a blast. \nFOLLOW THE SLIME DOGS ON FACEBOOK
URL:https://coachhousepub.com/event/slime-dogs/
LOCATION:Coach House Pub\, 3 Felcher Boulevard\, Stouffville\, Ontario\, L4A 7X4\, Canada
CATEGORIES:MUSIC
ORGANIZER;CN="COACH HOUSE PUB PATIO SESSIONS":MAILTO:coachhousepub1@gmail.com
END:VEVENT
END:VCALENDAR