BEGIN:VCALENDAR
VERSION:2.0
PRODID:-//Coach House Pub - ECPv6.15.20//NONSGML v1.0//EN
CALSCALE:GREGORIAN
METHOD:PUBLISH
X-ORIGINAL-URL:https://coachhousepub.com
X-WR-CALDESC:Events for Coach House Pub
REFRESH-INTERVAL;VALUE=DURATION:PT1H
X-Robots-Tag:noindex
X-PUBLISHED-TTL:PT1H
BEGIN:VTIMEZONE
TZID:UTC
BEGIN:STANDARD
TZOFFSETFROM:+0000
TZOFFSETTO:+0000
TZNAME:UTC
DTSTART:20210101T000000
END:STANDARD
END:VTIMEZONE
BEGIN:VEVENT
DTSTART;TZID=UTC:20220709T140000
DTEND;TZID=UTC:20220709T170000
DTSTAMP:20260419T212331
CREATED:20220613T162651Z
LAST-MODIFIED:20220615T163101Z
UID:677-1657375200-1657386000@coachhousepub.com
SUMMARY:Dave Lyon Band - Saturday July 9
DESCRIPTION:Come out and join in the fun as the Dave Lyon Band takes the Coach House Pub Patio Sessions stage on Saturday\, July 9 from 2:00 until 5:00 pm. \nThis is their make up show from when they almost got taken away in the epic tornado of 2022! \nReserve your table or give us a call at 905-640-8118 and let us know if you would like to stay for dinner after 5:00. \nCome see why we won 4 Readers’ Choice Awards for \n– Best Live Music Pub \n– Best Fish & Chips \n– Best Lunch \n– Best Takeaway \n  \nPlease note there is a 15-minute max grace period for reservations.
URL:https://coachhousepub.com/event/dave-lyon-band-saturday-july-9/
LOCATION:Coach House Pub\, 3 Felcher Boulevard\, Stouffville\, Ontario\, L4A 7X4\, Canada
CATEGORIES:MUSIC
ORGANIZER;CN="COACH HOUSE PUB PATIO SESSIONS":MAILTO:coachhousepub1@gmail.com
END:VEVENT
BEGIN:VEVENT
DTSTART;TZID=UTC:20220717T140000
DTEND;TZID=UTC:20220717T170000
DTSTAMP:20260419T212331
CREATED:20220720T164102Z
LAST-MODIFIED:20220720T164102Z
UID:694-1658066400-1658077200@coachhousepub.com
SUMMARY:Kevin Ker - Saturday July 17
DESCRIPTION:Come spend the afternoon with singer/songwriter/music icon Kevin Ker as he takes over the Coach House Pub Patio Sessions on Sunday\, July 17 from 2:00 until 5:00 pm.\n\nReserve your table at www.coachhousepub.com or give us a call at 905-640-8118
URL:https://coachhousepub.com/event/kevin-ker-saturday-july-17/
LOCATION:Coach House Pub\, 3 Felcher Boulevard\, Stouffville\, Ontario\, L4A 7X4\, Canada
ORGANIZER;CN="COACH HOUSE PUB PATIO SESSIONS":MAILTO:coachhousepub1@gmail.com
END:VEVENT
BEGIN:VEVENT
DTSTART;TZID=UTC:20220730T140000
DTEND;TZID=UTC:20220730T170000
DTSTAMP:20260419T212331
CREATED:20220720T164310Z
LAST-MODIFIED:20220720T164310Z
UID:699-1659189600-1659200400@coachhousepub.com
SUMMARY:Pheromones - Saturday July 30
DESCRIPTION:Come spend the afternoon with the incredibly fun Pheromones as they take over the Coach House Pub Patio Sessions stage on Sunday\, July 30 from 2:00 until 5:00 pm.\nBring your dancing shoes this place is gonna rock!\n\nReserve your table at www.coachhousepub.com or give us a call at 905-640-8118 and let us know if you would like to stay for dinner after 5:00.\n\nCome see why we won Readers’ Choice Awards for\n– Best Live Music Pub\n– Best Fish & Chips\n– Best Lunch\n– Best Takeaway\n\nPlease note there is a 15-minute max grace period for reservations.
URL:https://coachhousepub.com/event/pheromones-saturday-july-30/
LOCATION:Coach House Pub\, 3 Felcher Boulevard\, Stouffville\, Ontario\, L4A 7X4\, Canada
CATEGORIES:MUSIC
ORGANIZER;CN="COACH HOUSE PUB PATIO SESSIONS":MAILTO:coachhousepub1@gmail.com
END:VEVENT
END:VCALENDAR