BEGIN:VCALENDAR
VERSION:2.0
PRODID:-//Coach House Pub - ECPv6.15.20//NONSGML v1.0//EN
CALSCALE:GREGORIAN
METHOD:PUBLISH
X-WR-CALNAME:Coach House Pub
X-ORIGINAL-URL:https://coachhousepub.com
X-WR-CALDESC:Events for Coach House Pub
REFRESH-INTERVAL;VALUE=DURATION:PT1H
X-Robots-Tag:noindex
X-PUBLISHED-TTL:PT1H
BEGIN:VTIMEZONE
TZID:UTC
BEGIN:STANDARD
TZOFFSETFROM:+0000
TZOFFSETTO:+0000
TZNAME:UTC
DTSTART:20200101T000000
END:STANDARD
END:VTIMEZONE
BEGIN:VEVENT
DTSTART;TZID=UTC:20211002T140000
DTEND;TZID=UTC:20211002T170000
DTSTAMP:20260422T094954
CREATED:20210920T143438Z
LAST-MODIFIED:20210920T143438Z
UID:343-1633183200-1633194000@coachhousepub.com
SUMMARY:Screaming Evil Blues Band - Saturday October 2
DESCRIPTION:Come catch the Screaming Evil Blues Band as they take the stage at the Coach House Pub Patio Sessions on Saturday\, October 2 from 2:00 until 5:00 pm.\nCall to reserve your table on the patio at 905-640-8118 or go to reservations
URL:https://coachhousepub.com/event/screaming-evil-blues-band-saturday-october-2/
LOCATION:Coach House Pub\, 3 Felcher Boulevard\, Stouffville\, Ontario\, L4A 7X4\, Canada
ORGANIZER;CN="COACH HOUSE PUB PATIO SESSIONS":MAILTO:coachhousepub1@gmail.com
END:VEVENT
BEGIN:VEVENT
DTSTART;TZID=UTC:20211009T140000
DTEND;TZID=UTC:20211009T170000
DTSTAMP:20260422T094954
CREATED:20211005T200846Z
LAST-MODIFIED:20211005T200846Z
UID:365-1633788000-1633798800@coachhousepub.com
SUMMARY:The Pheromones - Saturday October 9
DESCRIPTION:Come spend the afternoon with the Pheromones as they take over the Coach House Pub Patio Sessions stage from 2:00 until 5:00 pm on Saturday\, October 9. \nReserve your table at reservations or gives us a shout at 905-640-8118
URL:https://coachhousepub.com/event/the-pheromones-saturday-october-9/
LOCATION:Coach House Pub\, 3 Felcher Boulevard\, Stouffville\, Ontario\, L4A 7X4\, Canada
CATEGORIES:MUSIC
ORGANIZER;CN="COACH HOUSE PUB PATIO SESSIONS":MAILTO:coachhousepub1@gmail.com
END:VEVENT
BEGIN:VEVENT
DTSTART;TZID=UTC:20211010T140000
DTEND;TZID=UTC:20211010T170000
DTSTAMP:20260422T094954
CREATED:20211005T200744Z
LAST-MODIFIED:20230511T141747Z
UID:354-1633874400-1633885200@coachhousepub.com
SUMMARY:Syd Simkins - Sunday October 10
DESCRIPTION:Come spend Thanksgiving Sunday afternoon with Syd Simkins as he takes over the Coach House Pub Patio Sessions stage from 2:00 until 5:00 pm \nReserve your table at reservations or gives us a shout at 905-640-8118
URL:https://coachhousepub.com/event/syd-sympkins-sunday-october-10/
LOCATION:Coach House Pub\, 3 Felcher Boulevard\, Stouffville\, Ontario\, L4A 7X4\, Canada
CATEGORIES:MUSIC
ORGANIZER;CN="COACH HOUSE PUB PATIO SESSIONS":MAILTO:coachhousepub1@gmail.com
END:VEVENT
BEGIN:VEVENT
DTSTART;TZID=UTC:20211017T140000
DTEND;TZID=UTC:20211017T170000
DTSTAMP:20260422T094954
CREATED:20211013T112051Z
LAST-MODIFIED:20230511T141741Z
UID:390-1634479200-1634490000@coachhousepub.com
SUMMARY:Michael Howitt - Sunday October 17
DESCRIPTION:Come spend an afternoon with the talented Micheal Howitt as he takes the stage of the Coach House Pub Patio Session on Sunday\, October 17 from 2:00 until 5:00 pm.\n\nReserve your table at reservations or give us a call at 905-640-8118
URL:https://coachhousepub.com/event/michael-howitt-sunday-october-17/
LOCATION:Coach House Pub\, 3 Felcher Boulevard\, Stouffville\, Ontario\, L4A 7X4\, Canada
CATEGORIES:MUSIC
ORGANIZER;CN="COACH HOUSE PUB PATIO SESSIONS":MAILTO:coachhousepub1@gmail.com
END:VEVENT
BEGIN:VEVENT
DTSTART;TZID=UTC:20211023T140000
DTEND;TZID=UTC:20211023T170000
DTSTAMP:20260422T094954
CREATED:20211013T111903Z
LAST-MODIFIED:20230511T141733Z
UID:361-1634997600-1635008400@coachhousepub.com
SUMMARY:Dave Lyon Band - Saturday October 23
DESCRIPTION:Come rock on to the tunes of the Dave Lyon Band as they take over the Coach House Pub Patio Sessions stage from 2:00 until 5:00 pm on Saturday\, October 23. \nReserve your table at reservations or gives us a shout at 905-640-8118
URL:https://coachhousepub.com/event/dave-lyons-band-saturday-october-23/
LOCATION:Coach House Pub\, 3 Felcher Boulevard\, Stouffville\, Ontario\, L4A 7X4\, Canada
CATEGORIES:MUSIC
ORGANIZER;CN="COACH HOUSE PUB PATIO SESSIONS":MAILTO:coachhousepub1@gmail.com
END:VEVENT
BEGIN:VEVENT
DTSTART;TZID=UTC:20211024T140000
DTEND;TZID=UTC:20211024T170000
DTSTAMP:20260422T094954
CREATED:20211013T111851Z
LAST-MODIFIED:20230511T141724Z
UID:384-1635084000-1635094800@coachhousepub.com
SUMMARY:Piano Man Brian Larter - Sunday October 24
DESCRIPTION:Come spend the afternoon with Stouffville’s Piano Man\, Brian Larter as he takes over the Coach House Pub Patio Sessions stage on Sunday\, October 24 from 2:00 until 5:00.\n\nBrian promises there will be no rain!\n\nReserve your table at reservations or call us at 905-640-8118
URL:https://coachhousepub.com/event/piano-man-brian-larter-sunday-october-24/
LOCATION:Coach House Pub\, 3 Felcher Boulevard\, Stouffville\, Ontario\, L4A 7X4\, Canada
CATEGORIES:MUSIC
ORGANIZER;CN="COACH HOUSE PUB PATIO SESSIONS":MAILTO:coachhousepub1@gmail.com
END:VEVENT
BEGIN:VEVENT
DTSTART;TZID=UTC:20211030T140000
DTEND;TZID=UTC:20211030T170000
DTSTAMP:20260422T094954
CREATED:20211013T111700Z
LAST-MODIFIED:20211013T152603Z
UID:388-1635602400-1635613200@coachhousepub.com
SUMMARY:The Pheromones - Saturday October 30
DESCRIPTION:Come spend Halloween ‘eve afternoon with the great sounds of the Pheromones as they take over the Coach House Pub Patio Sessions stage on Saturday\, October 30 from 2:00 until 5:00. \nReserve your table at reservations or call us at 905-640-8118
URL:https://coachhousepub.com/event/the-pheromones-saturday-october-30/
LOCATION:Coach House Pub\, 3 Felcher Boulevard\, Stouffville\, Ontario\, L4A 7X4\, Canada
CATEGORIES:MUSIC
ORGANIZER;CN="COACH HOUSE PUB PATIO SESSIONS":MAILTO:coachhousepub1@gmail.com
END:VEVENT
BEGIN:VEVENT
DTSTART;TZID=UTC:20211031T140000
DTEND;TZID=UTC:20211031T170000
DTSTAMP:20260422T094954
CREATED:20211013T111724Z
LAST-MODIFIED:20211015T164253Z
UID:393-1635688800-1635699600@coachhousepub.com
SUMMARY:Kevin Ker - Halloween Afternoon - October 31
DESCRIPTION:Come spend Halloween Afternoon with Kevin Ker and friends as he takes the stage of the Coach House Pub Patio Sessions on Sunday\, October 31 from 2:00 – 5:00 pm.\n\nCostumes are welcomed… reserve your table at reservations or give us a call 905-640-8118
URL:https://coachhousepub.com/event/kevin-ker-halloween-afternoon-october-31/
LOCATION:Coach House Pub\, 3 Felcher Boulevard\, Stouffville\, Ontario\, L4A 7X4\, Canada
CATEGORIES:MUSIC
ORGANIZER;CN="COACH HOUSE PUB PATIO SESSIONS":MAILTO:coachhousepub1@gmail.com
END:VEVENT
END:VCALENDAR