BEGIN:VCALENDAR
VERSION:2.0
PRODID:-//Coach House Pub - ECPv6.15.20//NONSGML v1.0//EN
CALSCALE:GREGORIAN
METHOD:PUBLISH
X-WR-CALNAME:Coach House Pub
X-ORIGINAL-URL:https://coachhousepub.com
X-WR-CALDESC:Events for Coach House Pub
REFRESH-INTERVAL;VALUE=DURATION:PT1H
X-Robots-Tag:noindex
X-PUBLISHED-TTL:PT1H
BEGIN:VTIMEZONE
TZID:UTC
BEGIN:STANDARD
TZOFFSETFROM:+0000
TZOFFSETTO:+0000
TZNAME:UTC
DTSTART:20200101T000000
END:STANDARD
END:VTIMEZONE
BEGIN:VEVENT
DTSTART;TZID=UTC:20210904T140000
DTEND;TZID=UTC:20210904T170000
DTSTAMP:20260422T105854
CREATED:20210903T092546Z
LAST-MODIFIED:20210903T142528Z
UID:126-1630764000-1630774800@coachhousepub.com
SUMMARY:David Wildsmith - Saturday September 4
DESCRIPTION:Come enjoy an afternoon of great music as David Wildsmith takes the Coach House Pub Patio Sessions stage on Saturday September 4 from 2:00 – 5:00 pm.\n\n\nmake a reservation or call us at 905-640-8118.
URL:https://coachhousepub.com/event/david-wildsmith-august-7/
LOCATION:Coach House Pub\, 3 Felcher Boulevard\, Stouffville\, Ontario\, L4A 7X4\, Canada
CATEGORIES:MUSIC
ORGANIZER;CN="COACH HOUSE PUB PATIO SESSIONS":MAILTO:coachhousepub1@gmail.com
END:VEVENT
BEGIN:VEVENT
DTSTART;TZID=UTC:20210905T140000
DTEND;TZID=UTC:20210905T170000
DTSTAMP:20260422T105854
CREATED:20210903T142202Z
LAST-MODIFIED:20210903T142440Z
UID:308-1630850400-1630861200@coachhousepub.com
SUMMARY:Darren Bailey - Sunday September 5
DESCRIPTION:Come enjoy an afternoon of great music as Darren Bailey takes the Coach House Pub Patio Sessions stage on Sunday\, September 5 from 2:00 – 5:00 pm.\n\nReservations are recommended and can be made here or by calling us at 905-640-8118.
URL:https://coachhousepub.com/event/darren-bailey/
LOCATION:Coach House Pub\, 3 Felcher Boulevard\, Stouffville\, Ontario\, L4A 7X4\, Canada
ORGANIZER;CN="COACH HOUSE PUB PATIO SESSIONS":MAILTO:coachhousepub1@gmail.com
END:VEVENT
BEGIN:VEVENT
DTSTART;TZID=UTC:20210911T140000
DTEND;TZID=UTC:20210911T170000
DTSTAMP:20260422T105854
CREATED:20210903T142925Z
LAST-MODIFIED:20230511T141813Z
UID:312-1631368800-1631379600@coachhousepub.com
SUMMARY:Grant Fullerton - Saturday September 11
DESCRIPTION:Come spend an afternoon with Canadian Rock and Roll Legend Grant Fullerton as he takes over the Coach House Pub Patio Sessions stage from 2:00 until 5:00.\nReserve your table today here or give us a shout at 905-640-8118
URL:https://coachhousepub.com/event/grant-fullerton-saturday-september-11/
LOCATION:Coach House Pub\, 3 Felcher Boulevard\, Stouffville\, Ontario\, L4A 7X4\, Canada
ORGANIZER;CN="COACH HOUSE PUB PATIO SESSIONS":MAILTO:coachhousepub1@gmail.com
END:VEVENT
BEGIN:VEVENT
DTSTART;TZID=UTC:20210918T140000
DTEND;TZID=UTC:20210918T170000
DTSTAMP:20260422T105854
CREATED:20210913T212208Z
LAST-MODIFIED:20230511T141807Z
UID:320-1631973600-1631984400@coachhousepub.com
SUMMARY:The Dave Lyon Band - Saturday September 18
DESCRIPTION:Come rock on to the tunes of the Dave Lyon Band as they take over the Coach House Pub Patio Sessions stage from 2:00 until 5:00 pm on Saturday\, September 18.\nReserve your table or give us a call at 905-640-8118
URL:https://coachhousepub.com/event/the-dave-lyon-band-saturday-september-18/
LOCATION:Coach House Pub\, 3 Felcher Boulevard\, Stouffville\, Ontario\, L4A 7X4\, Canada
CATEGORIES:MUSIC
END:VEVENT
BEGIN:VEVENT
DTSTART;TZID=UTC:20210919T140000
DTEND;TZID=UTC:20210919T170000
DTSTAMP:20260422T105854
CREATED:20210913T213116Z
LAST-MODIFIED:20230511T141801Z
UID:323-1632060000-1632070800@coachhousepub.com
SUMMARY:Michael Howitt - Sunday September 19
DESCRIPTION:A perfect way to enjoy a Sunday afternoon is listening to the fabulous music of Michael Howitt. On Sunday\, September 19\, Michael will be taking the stage of the Coach house Pub Patio Sessions from 2:00 until 5:00 pm. \nReserve your table or give us a call at 905-640-8118
URL:https://coachhousepub.com/event/michael-howitt/
LOCATION:Coach House Pub\, 3 Felcher Boulevard\, Stouffville\, Ontario\, L4A 7X4\, Canada
CATEGORIES:MUSIC
ORGANIZER;CN="COACH HOUSE PUB PATIO SESSIONS":MAILTO:coachhousepub1@gmail.com
END:VEVENT
BEGIN:VEVENT
DTSTART;TZID=UTC:20210925T140000
DTEND;TZID=UTC:20210925T170000
DTSTAMP:20260422T105854
CREATED:20210919T204113Z
LAST-MODIFIED:20230511T141755Z
UID:326-1632578400-1632589200@coachhousepub.com
SUMMARY:The Pheromones - Saturday September 25
DESCRIPTION:They’re back! What a way to spend a Saturday afternoon… The Pheromones are taking the stage of the Coach House Pub patio Sessions from 2:00 until 5:00 on Saturday\, September 25. \nReserve your table or give us a call at 905-640-8118
URL:https://coachhousepub.com/event/the-pheromones-saturday-september-25/
LOCATION:Coach House Pub\, 3 Felcher Boulevard\, Stouffville\, Ontario\, L4A 7X4\, Canada
CATEGORIES:MUSIC
ORGANIZER;CN="COACH HOUSE PUB PATIO SESSIONS":MAILTO:coachhousepub1@gmail.com
END:VEVENT
BEGIN:VEVENT
DTSTART;TZID=UTC:20210926T140000
DTEND;TZID=UTC:20210926T170000
DTSTAMP:20260422T105854
CREATED:20210919T203740Z
LAST-MODIFIED:20210920T143643Z
UID:330-1632664800-1632675600@coachhousepub.com
SUMMARY:Kevin Ker - Sunday September 26
DESCRIPTION:Come catch Stouffville’s Kevin Ker as he takes the stage of the Coach House Pub Patio Sessions from 2:00 till 5:00 pm on Sunday\, September 26. \nReserve your table or give us a call at 905-640-8118
URL:https://coachhousepub.com/event/kevin-ker-sunday-september-26/
LOCATION:Coach House Pub\, 3 Felcher Boulevard\, Stouffville\, Ontario\, L4A 7X4\, Canada
CATEGORIES:MUSIC
ORGANIZER;CN="COACH HOUSE PUB PATIO SESSIONS":MAILTO:coachhousepub1@gmail.com
END:VEVENT
END:VCALENDAR