BEGIN:VCALENDAR
VERSION:2.0
PRODID:-//Coach House Pub - ECPv6.15.20//NONSGML v1.0//EN
CALSCALE:GREGORIAN
METHOD:PUBLISH
X-WR-CALNAME:Coach House Pub
X-ORIGINAL-URL:https://coachhousepub.com
X-WR-CALDESC:Events for Coach House Pub
REFRESH-INTERVAL;VALUE=DURATION:PT1H
X-Robots-Tag:noindex
X-PUBLISHED-TTL:PT1H
BEGIN:VTIMEZONE
TZID:UTC
BEGIN:STANDARD
TZOFFSETFROM:+0000
TZOFFSETTO:+0000
TZNAME:UTC
DTSTART:20220101T000000
END:STANDARD
END:VTIMEZONE
BEGIN:VEVENT
DTSTART;TZID=UTC:20230128T140000
DTEND;TZID=UTC:20230128T170000
DTSTAMP:20260423T202547
CREATED:20230127T160019Z
LAST-MODIFIED:20230130T152558Z
UID:831-1674914400-1674925200@coachhousepub.com
SUMMARY:Bill Nadeau - Sat Jan 28
DESCRIPTION:Come join in the fun at the Coach House Pub for an afternoon of your favourite music with Bill Nadeau from 2:00 until 5:00 on Saturday January 28 \nFor reservations go to book now or call 905-640-8118 \n 
URL:https://coachhousepub.com/event/bill-nadeau-sat-jan-28/
LOCATION:Coach House Pub\, 3 Felcher Boulevard\, Stouffville\, Ontario\, L4A 7X4\, Canada
CATEGORIES:MUSIC
ORGANIZER;CN="COACH HOUSE PUB PATIO SESSIONS":MAILTO:coachhousepub1@gmail.com
END:VEVENT
BEGIN:VEVENT
DTSTART;TZID=UTC:20230211T140000
DTEND;TZID=UTC:20230211T170000
DTSTAMP:20260423T202547
CREATED:20230127T164945Z
LAST-MODIFIED:20230127T165224Z
UID:834-1676124000-1676134800@coachhousepub.com
SUMMARY:Darren Bailey - Sat Feb 11
DESCRIPTION:Come for a great afternoon of live music at the Coach House Pub as Darren Bailey takes over the pub from 2:00 until 5:00 pm \nFor reservations go to book now or call 905-640-8118
URL:https://coachhousepub.com/event/darren-bailey-sun-feb-11/
LOCATION:Coach House Pub\, 3 Felcher Boulevard\, Stouffville\, Ontario\, L4A 7X4\, Canada
CATEGORIES:MUSIC
ORGANIZER;CN="COACH HOUSE PUB PATIO SESSIONS":MAILTO:coachhousepub1@gmail.com
END:VEVENT
BEGIN:VEVENT
DTSTART;TZID=UTC:20230304T140000
DTEND;TZID=UTC:20230304T170000
DTSTAMP:20260423T202547
CREATED:20230303T154506Z
LAST-MODIFIED:20230303T160624Z
UID:847-1677938400-1677949200@coachhousepub.com
SUMMARY:Matt Bergman - Sat Mar 4
DESCRIPTION:Come spend Saturday afternoon from 2:00-5:00 pm listening to the music of Matt Bergman (AKA Matt Groupie) who was able to fill in for Dave & Sarah\, who had to cancel due to illness\, they will be back on April 22.\n\n\n \n\n\nReserve you table at www.coachhousepub.com or call us at 905-640-8118Matt\n\nReserve your table at contact or give us a call at 905-640-8118
URL:https://coachhousepub.com/event/dave-sarah-sat-mar-4/
LOCATION:Coach House Pub\, 3 Felcher Boulevard\, Stouffville\, Ontario\, L4A 7X4\, Canada
CATEGORIES:MUSIC
END:VEVENT
BEGIN:VEVENT
DTSTART;TZID=UTC:20230317T140000
DTEND;TZID=UTC:20230317T180000
DTSTAMP:20260423T202547
CREATED:20230301T135159Z
LAST-MODIFIED:20230320T120010Z
UID:897-1679061600-1679076000@coachhousepub.com
SUMMARY:St Paddy's Day with Dave Lyon & friends - Fri Mar 17
DESCRIPTION:Come be Irish for the day on St Patrick’s Day and join in the fun as Dave Lyon and friends turn the Coach House into a party with green beer\, special menu\, Irish tunes and a great time… \nreserve your table or give us a call at 905-640-8118
URL:https://coachhousepub.com/event/st-paddys-day-with-dave-lyon-friends-fri-mar-17/
LOCATION:Coach House Pub\, 3 Felcher Boulevard\, Stouffville\, Ontario\, L4A 7X4\, Canada
CATEGORIES:MUSIC,special meal
END:VEVENT
BEGIN:VEVENT
DTSTART;TZID=UTC:20230325T140000
DTEND;TZID=UTC:20230325T170000
DTSTAMP:20260423T202547
CREATED:20230306T135026Z
LAST-MODIFIED:20230306T135417Z
UID:862-1679752800-1679763600@coachhousepub.com
SUMMARY:Bill Nadeau - Sat Mar 25
DESCRIPTION:Come join in the fun of live music as Bill Nadeau takes over the Coach House \nReserve your table at contact or give us a call at 905-640-8118
URL:https://coachhousepub.com/event/bill-nadeau-sat-mar-25/
LOCATION:Coach House Pub\, 3 Felcher Boulevard\, Stouffville\, Ontario\, L4A 7X4\, Canada
CATEGORIES:MUSIC
END:VEVENT
BEGIN:VEVENT
DTSTART;TZID=UTC:20230408T140000
DTEND;TZID=UTC:20230408T170000
DTSTAMP:20260423T202547
CREATED:20230306T134917Z
LAST-MODIFIED:20230320T120143Z
UID:864-1680962400-1680973200@coachhousepub.com
SUMMARY:Joe & John - Sat Apr 8
DESCRIPTION:Come join in the fun of live music as Joe & John take over the Coach House \nReserve your table at contact or give us a call at 905-640-8118
URL:https://coachhousepub.com/event/joe-john-sat-apr-8/
LOCATION:Coach House Pub\, 3 Felcher Boulevard\, Stouffville\, Ontario\, L4A 7X4\, Canada
CATEGORIES:MUSIC
END:VEVENT
BEGIN:VEVENT
DTSTART;TZID=UTC:20230415T140000
DTEND;TZID=UTC:20230415T170000
DTSTAMP:20260423T202547
CREATED:20230224T164036Z
LAST-MODIFIED:20230224T164753Z
UID:860-1681567200-1681578000@coachhousepub.com
SUMMARY:Darren Bailey - Sat Apr 15
DESCRIPTION:Come join in the fun of live music as Darren Bailey takes over the Coach House \nReserve your table at contact or give us a call at 905-640-8118
URL:https://coachhousepub.com/event/darren-bailey-sat-apr-15/
LOCATION:Coach House Pub\, 3 Felcher Boulevard\, Stouffville\, Ontario\, L4A 7X4\, Canada
CATEGORIES:MUSIC
END:VEVENT
BEGIN:VEVENT
DTSTART;TZID=UTC:20230422T140000
DTEND;TZID=UTC:20230422T170000
DTSTAMP:20260423T202547
CREATED:20230224T162842Z
LAST-MODIFIED:20230224T162859Z
UID:857-1682172000-1682182800@coachhousepub.com
SUMMARY:Dave & Sarah - Sat Apr 22
DESCRIPTION:Come join in the fun of live music as Dave & Sarah take over the Coach House \nReserve your table at contact or give us a call at 905-640-8118
URL:https://coachhousepub.com/event/857/
LOCATION:Coach House Pub\, 3 Felcher Boulevard\, Stouffville\, Ontario\, L4A 7X4\, Canada
CATEGORIES:MUSIC
END:VEVENT
BEGIN:VEVENT
DTSTART;TZID=UTC:20230429T140000
DTEND;TZID=UTC:20230429T170000
DTSTAMP:20260423T202547
CREATED:20230306T134426Z
LAST-MODIFIED:20230306T135423Z
UID:903-1682776800-1682787600@coachhousepub.com
SUMMARY:Mark Thackway - Sat Apr 29
DESCRIPTION:Come spend the afternoon listening to the music of Mark Thackway on Saturday April 29 from 2:00 until 5:00 pm \nreserve your table or give us a call at 905-640-8118
URL:https://coachhousepub.com/event/mark-thackway-sat-apr-29/
LOCATION:Coach House Pub\, 3 Felcher Boulevard\, Stouffville\, Ontario\, L4A 7X4\, Canada
CATEGORIES:MUSIC
ORGANIZER;CN="COACH HOUSE PUB PATIO SESSIONS":MAILTO:coachhousepub1@gmail.com
END:VEVENT
BEGIN:VEVENT
DTSTART;TZID=UTC:20230520T140000
DTEND;TZID=UTC:20230520T170000
DTSTAMP:20260423T202547
CREATED:20230514T175329Z
LAST-MODIFIED:20230515T173950Z
UID:921-1684591200-1684602000@coachhousepub.com
SUMMARY:Mark Hassan - Sat May 20
DESCRIPTION:Come kick off the summer with some Classic Country this May 24 Weekend… spend Saturday afternoon as Mark Hasson takes over the Coach House from 2:00 until 5:00 pm \n\nFor reservations contact us or call 905-640-8118
URL:https://coachhousepub.com/event/mark-hassan-sat-may-20/
LOCATION:Coach House Pub\, 3 Felcher Boulevard\, Stouffville\, Ontario\, L4A 7X4\, Canada
CATEGORIES:MUSIC
ORGANIZER;CN="COACH HOUSE PUB PATIO SESSIONS":MAILTO:coachhousepub1@gmail.com
END:VEVENT
BEGIN:VEVENT
DTSTART;TZID=UTC:20230617T120000
DTEND;TZID=UTC:20230617T170000
DTSTAMP:20260423T202547
CREATED:20230514T175103Z
LAST-MODIFIED:20230515T173945Z
UID:923-1687003200-1687021200@coachhousepub.com
SUMMARY:Grilling with Shine BBQ Cookoff - Sat June 17
DESCRIPTION:Come catch the Grilling with Shine Cookoff – the 2023 Stouffville BBQ Competition from 12:00 – 5:00 \nUp to 10 BBQ teams preparing\, grilling and plating a Surprise BBQ Box with 3 items\, Grilling with Shine Spices\, and a special ingredient in a 4 hour window. Hosted by Sven Mcoy and Troy Des Bois from Stouffville’s Grilling with Shine Moonshine Infused Spices Company. \nMusic from 2:00-5:00 pm by Billy Mac & Paul MaGee \nJudging at 4:00pm by: \n\nChristine\, The Grill Queen\,  Coach House Pub Head Chef\nRussell\, The Butcher\, The Meat Merchant\, Stouffville\, Owner & Head Butcher\nDave\, The Axe-man & Shite Disturber\, Global Gastronomical Genius\n\nWant to enter your BBQ team or for more information go grillingwithshine.com\nBring a condiment for the Whitchurch Stouffville Food Bank \nOfficial Sponsor Copperhead Distillery from Sundridge Ontario \n  \nGrilling with Shine is Stouffville’s BBQ & Cocktail Moonshine Infused Spice Company
URL:https://coachhousepub.com/event/grilling-with-shine-bbq-cookoff-sat-june-17/
LOCATION:Coach House Pub\, 3 Felcher Boulevard\, Stouffville\, Ontario\, L4A 7X4\, Canada
CATEGORIES:BBQ Competition,MUSIC
END:VEVENT
BEGIN:VEVENT
DTSTART;TZID=UTC:20230819T140000
DTEND;TZID=UTC:20230819T170000
DTSTAMP:20260423T202547
CREATED:20230515T173837Z
LAST-MODIFIED:20230515T173837Z
UID:945-1692453600-1692464400@coachhousepub.com
SUMMARY:Slime Dogs - Sat Aug 19
DESCRIPTION:Come join in the fun as the Slime Dogs take over the patio sessions at the Coach House Pub
URL:https://coachhousepub.com/event/slime-dogs-sat-aug-19/
LOCATION:Coach House Pub\, 3 Felcher Boulevard\, Stouffville\, Ontario\, L4A 7X4\, Canada
CATEGORIES:MUSIC
ORGANIZER;CN="COACH HOUSE PUB PATIO SESSIONS":MAILTO:coachhousepub1@gmail.com
END:VEVENT
BEGIN:VEVENT
DTSTART;TZID=UTC:20240413T140000
DTEND;TZID=UTC:20240413T170000
DTSTAMP:20260423T202547
CREATED:20240403T031812Z
LAST-MODIFIED:20240403T040706Z
UID:1026-1713016800-1713027600@coachhousepub.com
SUMMARY:Grant Fullerton - Sat April 13
DESCRIPTION:Come catch Grant Fullerton as he rocks the Coach House Pub on Saturday\, April 13 from 2:00 until 5:00 pm \nReservations are recommended
URL:https://coachhousepub.com/event/grant-fullerton-sat-april-13/
LOCATION:Coach House Pub\, 3 Felcher Boulevard\, Stouffville\, Ontario\, L4A 7X4\, Canada
CATEGORIES:MUSIC
ATTACH;FMTTYPE=image/png:https://coachhousepub.com/wp-content/uploads/2024/04/Pub-Sessions-3.png
END:VEVENT
BEGIN:VEVENT
DTSTART;TZID=UTC:20240420T140000
DTEND;TZID=UTC:20240420T170000
DTSTAMP:20260423T202547
CREATED:20240408T130709Z
LAST-MODIFIED:20240408T131134Z
UID:1041-1713621600-1713632400@coachhousepub.com
SUMMARY:Kevin Ker - Sat April 20
DESCRIPTION:Come spend the afternoon from 2:00 until 5:00 and catch the great music of Kevin Ker
URL:https://coachhousepub.com/event/kevin-ker-april-20/
LOCATION:Coach House Pub\, 3 Felcher Boulevard\, Stouffville\, Ontario\, L4A 7X4\, Canada
CATEGORIES:MUSIC
ATTACH;FMTTYPE=image/jpeg:https://coachhousepub.com/wp-content/uploads/2024/04/KEVIN-KER.jpg
END:VEVENT
BEGIN:VEVENT
DTSTART;TZID=UTC:20240504T140000
DTEND;TZID=UTC:20240504T170000
DTSTAMP:20260423T202547
CREATED:20240429T204458Z
LAST-MODIFIED:20240429T204458Z
UID:1072-1714831200-1714842000@coachhousepub.com
SUMMARY:Darren Bailey - Sat May 4
DESCRIPTION:Come spend the afternoon with Darren Bailey as he rocks the Coach House Pub Saturday May 4 from 2:00 until 5:00 pm
URL:https://coachhousepub.com/event/darren-bailey-sat-may-4/
LOCATION:Coach House Pub\, 3 Felcher Boulevard\, Stouffville\, Ontario\, L4A 7X4\, Canada
CATEGORIES:MUSIC
ATTACH;FMTTYPE=image/jpeg:https://coachhousepub.com/wp-content/uploads/2024/04/Darren-Bailey.jpg
ORGANIZER;CN="COACH HOUSE PUB PATIO SESSIONS":MAILTO:coachhousepub1@gmail.com
END:VEVENT
BEGIN:VEVENT
DTSTART;TZID=UTC:20240525T140000
DTEND;TZID=UTC:20240525T170000
DTSTAMP:20260423T202547
CREATED:20240513T135334Z
LAST-MODIFIED:20240513T135421Z
UID:1080-1716645600-1716656400@coachhousepub.com
SUMMARY:Grant Fullerton - Sat May 25
DESCRIPTION:Come rock the Coach House Pub Patio Sessions with Rock & Roll Legend and Canada’s Walk of Fame member Grant Fullerton on Saturday May 25 from 2:00 until 5:00 pm – reserve your spot while you can… 905-640-8118
URL:https://coachhousepub.com/event/grant-fullerton-sat-may-25/
LOCATION:Coach House Pub\, 3 Felcher Boulevard\, Stouffville\, Ontario\, L4A 7X4\, Canada
CATEGORIES:MUSIC
ATTACH;FMTTYPE=image/jpeg:https://coachhousepub.com/wp-content/uploads/2024/05/Grant-Fullerton-may-25.jpg
ORGANIZER;CN="COACH HOUSE PUB PATIO SESSIONS":MAILTO:coachhousepub1@gmail.com
END:VEVENT
BEGIN:VEVENT
DTSTART;TZID=UTC:20240608T140000
DTEND;TZID=UTC:20240608T170000
DTSTAMP:20260423T202547
CREATED:20240408T132030Z
LAST-MODIFIED:20240408T132030Z
UID:1045-1717855200-1717866000@coachhousepub.com
SUMMARY:The Fabulous Pheromones - Sat June 8
DESCRIPTION:Come enjoy the great music of The Fabulous Pheromones as they turn the Coach House Patio Sessions into a dance floor on Saturday June 8 from 2:00 until 5:00 pm
URL:https://coachhousepub.com/event/the-fabulous-pheromones-sat-june-8/
LOCATION:Coach House Pub\, 3 Felcher Boulevard\, Stouffville\, Ontario\, L4A 7X4\, Canada
CATEGORIES:MUSIC
ATTACH;FMTTYPE=image/jpeg:https://coachhousepub.com/wp-content/uploads/2024/04/pheremones-june-8.jpg
ORGANIZER;CN="COACH HOUSE PUB PATIO SESSIONS":MAILTO:coachhousepub1@gmail.com
END:VEVENT
BEGIN:VEVENT
DTSTART;TZID=UTC:20240615T140000
DTEND;TZID=UTC:20240615T170000
DTSTAMP:20260423T202547
CREATED:20240429T204616Z
LAST-MODIFIED:20240429T204616Z
UID:1074-1718460000-1718470800@coachhousepub.com
SUMMARY:Dave Mills - Sat June 15
DESCRIPTION:Come spend the afternoon with Dave Mills as he takes over the Coach House Pub Patio Sessions from 2:00 until 5:00 pm on Saturday June 15… it’s gonna a great afternoon of live music!
URL:https://coachhousepub.com/event/dave-mills-sat-june-15/
LOCATION:Coach House Pub\, 3 Felcher Boulevard\, Stouffville\, Ontario\, L4A 7X4\, Canada
CATEGORIES:MUSIC
ATTACH;FMTTYPE=image/jpeg:https://coachhousepub.com/wp-content/uploads/2024/04/Dave-Mills-June-15.jpg
ORGANIZER;CN="COACH HOUSE PUB PATIO SESSIONS":MAILTO:coachhousepub1@gmail.com
END:VEVENT
BEGIN:VEVENT
DTSTART;TZID=UTC:20240622T140000
DTEND;TZID=UTC:20240622T170000
DTSTAMP:20260423T202547
CREATED:20240403T040619Z
LAST-MODIFIED:20240403T040619Z
UID:1035-1719064800-1719075600@coachhousepub.com
SUMMARY:Durham County Line - Sat June 22
DESCRIPTION:Come catch Toronto’s new country act Durham County Line playing on the Coach House Pub Patio Sessions featuring a bunch of familiar faces belting out all of your favourite county songs… bring your dancing boots this is gonna be a hoedown!
URL:https://coachhousepub.com/event/durham-county-line-sat-june-22/
LOCATION:Coach House Pub\, 3 Felcher Boulevard\, Stouffville\, Ontario\, L4A 7X4\, Canada
CATEGORIES:MUSIC
ATTACH;FMTTYPE=image/png:https://coachhousepub.com/wp-content/uploads/2024/04/durham-county-line.png
ORGANIZER;CN="COACH HOUSE PUB PATIO SESSIONS":MAILTO:coachhousepub1@gmail.com
END:VEVENT
BEGIN:VEVENT
DTSTART;TZID=UTC:20240629T140000
DTEND;TZID=UTC:20240629T170000
DTSTAMP:20260423T202547
CREATED:20240429T204345Z
LAST-MODIFIED:20240429T204345Z
UID:1070-1719669600-1719680400@coachhousepub.com
SUMMARY:Arctic Blondes - Sat June 29
DESCRIPTION:Come join Arctic Blondes on Saturday June 29 as Dave\, Brian\, Jy and Bruce rock the Coach House Pub Patio Sessions from 2:00 until 5:00 pm
URL:https://coachhousepub.com/event/arctic-blondes-sat-june-29/
LOCATION:Coach House Pub\, 3 Felcher Boulevard\, Stouffville\, Ontario\, L4A 7X4\, Canada
CATEGORIES:MUSIC
ATTACH;FMTTYPE=image/jpeg:https://coachhousepub.com/wp-content/uploads/2024/04/Arctic-june-29.jpg
ORGANIZER;CN="COACH HOUSE PUB PATIO SESSIONS":MAILTO:coachhousepub1@gmail.com
END:VEVENT
BEGIN:VEVENT
DTSTART;TZID=UTC:20240706T140000
DTEND;TZID=UTC:20240706T170000
DTSTAMP:20260423T202547
CREATED:20240429T204827Z
LAST-MODIFIED:20240429T204827Z
UID:1076-1720274400-1720285200@coachhousepub.com
SUMMARY:Pepper Shakers - Sat July 6
DESCRIPTION:Come catch the Pepper Shakers on Saturday July 6 from 2:00 until 5:00 pm as the rock the Coach House Pub Patio Sessions
URL:https://coachhousepub.com/event/pepper-shakers-sat-july-6/
LOCATION:Coach House Pub\, 3 Felcher Boulevard\, Stouffville\, Ontario\, L4A 7X4\, Canada
CATEGORIES:MUSIC
ATTACH;FMTTYPE=image/jpeg:https://coachhousepub.com/wp-content/uploads/2024/04/pepper-shakers-july-6-2.jpg
ORGANIZER;CN="COACH HOUSE PUB PATIO SESSIONS":MAILTO:coachhousepub1@gmail.com
END:VEVENT
BEGIN:VEVENT
DTSTART;TZID=UTC:20240713T140000
DTEND;TZID=UTC:20240713T170000
DTSTAMP:20260423T202547
CREATED:20240403T040940Z
LAST-MODIFIED:20240403T040940Z
UID:1039-1720879200-1720890000@coachhousepub.com
SUMMARY:Slime Dogs - Sat July 13
DESCRIPTION:Come catch Toronto’s favourite party rock band the slime dogs as they make their return to the Coach House Pub Patio Session on Saturday July 13 from 2:00 until 5:00 pm… the joint is gonna be a rocking!
URL:https://coachhousepub.com/event/slime-dogs-sat-july-13/
LOCATION:Coach House Pub\, 3 Felcher Boulevard\, Stouffville\, Ontario\, L4A 7X4\, Canada
CATEGORIES:MUSIC
ATTACH;FMTTYPE=image/png:https://coachhousepub.com/wp-content/uploads/2024/04/slime-dogs.png
ORGANIZER;CN="COACH HOUSE PUB PATIO SESSIONS":MAILTO:coachhousepub1@gmail.com
END:VEVENT
BEGIN:VEVENT
DTSTART;TZID=UTC:20240727T140000
DTEND;TZID=UTC:20240727T170000
DTSTAMP:20260423T202547
CREATED:20240408T132204Z
LAST-MODIFIED:20240724T175742Z
UID:1050-1722088800-1722099600@coachhousepub.com
SUMMARY:Brian Larter & Friends - Sat July 27
DESCRIPTION:Come enjoy the great music of Brian Larter & Friends as he turns the Coach House Patio Sessions into a dance floor on Saturday July 27 from 2:00 until 5:00 pm
URL:https://coachhousepub.com/event/the-fabulous-pheromones-sat-july-27/
LOCATION:Coach House Pub\, 3 Felcher Boulevard\, Stouffville\, Ontario\, L4A 7X4\, Canada
CATEGORIES:MUSIC
ATTACH;FMTTYPE=image/png:https://coachhousepub.com/wp-content/uploads/2024/04/Brian-Larter-Friends.png
ORGANIZER;CN="COACH HOUSE PUB PATIO SESSIONS":MAILTO:coachhousepub1@gmail.com
END:VEVENT
BEGIN:VEVENT
DTSTART;TZID=UTC:20240810T140000
DTEND;TZID=UTC:20240810T170000
DTSTAMP:20260423T202547
CREATED:20240408T132417Z
LAST-MODIFIED:20240810T123630Z
UID:1052-1723298400-1723309200@coachhousepub.com
SUMMARY:Double the Pleasure - Sat August 10
DESCRIPTION:Come spend the afternoon on the patio as Double The Pleasure performs their great music from 2:00 until 5:00 pm on Saturday August 10 at the Coach House Pup Patio Sessions
URL:https://coachhousepub.com/event/double-the-pleasure/
LOCATION:Coach House Pub\, 3 Felcher Boulevard\, Stouffville\, Ontario\, L4A 7X4\, Canada
CATEGORIES:MUSIC
ATTACH;FMTTYPE=image/jpeg:https://coachhousepub.com/wp-content/uploads/2024/04/double-the-pleasure-aug-10.jpg
ORGANIZER;CN="COACH HOUSE PUB PATIO SESSIONS":MAILTO:coachhousepub1@gmail.com
END:VEVENT
BEGIN:VEVENT
DTSTART;TZID=UTC:20240817T140000
DTEND;TZID=UTC:20240817T170000
DTSTAMP:20260423T202547
CREATED:20240724T180123Z
LAST-MODIFIED:20240724T180123Z
UID:1100-1723903200-1723914000@coachhousepub.com
SUMMARY:The Huckleberrys - Sat Aug 17
DESCRIPTION:Come catch the energetic and crowd-pleasing duo of The Huckleberrys as they rock the Coach House Pub Patio Sessions on Saturday August 17 from 2:00 until 5:00 pm.\nhttps://www.facebook.com/profile.php?id=100095235819572
URL:https://coachhousepub.com/event/the-huckleberrys-sat-aug-17/
LOCATION:Coach House Pub\, 3 Felcher Boulevard\, Stouffville\, Ontario\, L4A 7X4\, Canada
CATEGORIES:MUSIC
ATTACH;FMTTYPE=image/png:https://coachhousepub.com/wp-content/uploads/2024/07/huckleberry-aug-17.png
ORGANIZER;CN="COACH HOUSE PUB PATIO SESSIONS":MAILTO:coachhousepub1@gmail.com
END:VEVENT
BEGIN:VEVENT
DTSTART;TZID=UTC:20240824T140000
DTEND;TZID=UTC:20240824T170000
DTSTAMP:20260423T202547
CREATED:20240724T180416Z
LAST-MODIFIED:20240724T180416Z
UID:1105-1724508000-1724518800@coachhousepub.com
SUMMARY:East River Band - Sat Aug 24
DESCRIPTION:Come party with the East River Band as the rock the Coach House Pub Patio Sessions on Saturday August 24 from 2:00 until 5:00 pm
URL:https://coachhousepub.com/event/east-river-band-sat-aug-24/
LOCATION:Coach House Pub\, 3 Felcher Boulevard\, Stouffville\, Ontario\, L4A 7X4\, Canada
CATEGORIES:MUSIC
ATTACH;FMTTYPE=image/png:https://coachhousepub.com/wp-content/uploads/2024/07/east-river-band-aug-24.png
ORGANIZER;CN="COACH HOUSE PUB PATIO SESSIONS":MAILTO:coachhousepub1@gmail.com
END:VEVENT
BEGIN:VEVENT
DTSTART;TZID=UTC:20240914T140000
DTEND;TZID=UTC:20240914T170000
DTSTAMP:20260423T202547
CREATED:20240903T143631Z
LAST-MODIFIED:20240903T143631Z
UID:1116-1726322400-1726333200@coachhousepub.com
SUMMARY:Double the Pleasure - Sat Sept 14
DESCRIPTION:Come out and party along with Double the Pleasure as they take over the Patio Sessions on Saturday September 14 from 2:00 until 5:00 pm
URL:https://coachhousepub.com/event/double-the-pleasure-sat-sept-14/
LOCATION:Coach House Pub\, 3 Felcher Boulevard\, Stouffville\, Ontario\, L4A 7X4\, Canada
CATEGORIES:MUSIC
ATTACH;FMTTYPE=image/png:https://coachhousepub.com/wp-content/uploads/2024/09/double-the-pleasure-Sept-14.png
ORGANIZER;CN="COACH HOUSE PUB PATIO SESSIONS":MAILTO:coachhousepub1@gmail.com
END:VEVENT
BEGIN:VEVENT
DTSTART;TZID=UTC:20240928T140000
DTEND;TZID=UTC:20240928T170000
DTSTAMP:20260423T202547
CREATED:20240903T143756Z
LAST-MODIFIED:20240903T143757Z
UID:1120-1727532000-1727542800@coachhousepub.com
SUMMARY:The New Durham County Line - Sat Sept 28
DESCRIPTION:Come get your country on with the New Durham County Line on Saturday September 28 from 2:00 until 5:00 pm
URL:https://coachhousepub.com/event/the-new-durham-county-line-sat-sept-28/
LOCATION:Coach House Pub\, 3 Felcher Boulevard\, Stouffville\, Ontario\, L4A 7X4\, Canada
CATEGORIES:MUSIC
ATTACH;FMTTYPE=image/png:https://coachhousepub.com/wp-content/uploads/2024/09/DHL-Sept-28.png
ORGANIZER;CN="COACH HOUSE PUB PATIO SESSIONS":MAILTO:coachhousepub1@gmail.com
END:VEVENT
BEGIN:VEVENT
DTSTART;TZID=UTC:20241130T140000
DTEND;TZID=UTC:20241130T170000
DTSTAMP:20260423T202547
CREATED:20241116T142014Z
LAST-MODIFIED:20241116T142014Z
UID:1132-1732975200-1732986000@coachhousepub.com
SUMMARY:Paul Magee - Sat Nov 30
DESCRIPTION:Come spend a fun Saturday afternoon at the Coach House Pub and catch Paul Magee as he rocks the joint.
URL:https://coachhousepub.com/event/paul-magee-sat-nov-30/
LOCATION:Coach House Pub\, 3 Felcher Boulevard\, Stouffville\, Ontario\, L4A 7X4\, Canada
CATEGORIES:MUSIC
ATTACH;FMTTYPE=image/png:https://coachhousepub.com/wp-content/uploads/2024/11/Paul-Magee.png
END:VEVENT
BEGIN:VEVENT
DTSTART;TZID=UTC:20241221T140000
DTEND;TZID=UTC:20241221T170000
DTSTAMP:20260423T202547
CREATED:20241127T181418Z
LAST-MODIFIED:20241127T181418Z
UID:1141-1734789600-1734800400@coachhousepub.com
SUMMARY:Christmas Sing Along with Brian Larter - Sat Dec 21
DESCRIPTION:Come join in and get ready for Christmas as Santa Brian Larter does a good ole sing along with all of your favourite seasonal tunes. It’s gonna be a holy jolly good time!
URL:https://coachhousepub.com/event/christmas-sing-along-with-brian-larter-sat-dec-21/
LOCATION:Coach House Pub\, 3 Felcher Boulevard\, Stouffville\, Ontario\, L4A 7X4\, Canada
CATEGORIES:MUSIC
ATTACH;FMTTYPE=image/jpeg:https://coachhousepub.com/wp-content/uploads/2024/11/Brian-Larter.jpg
END:VEVENT
END:VCALENDAR