BEGIN:VCALENDAR
VERSION:2.0
PRODID:-//Coach House Pub - ECPv6.15.20//NONSGML v1.0//EN
CALSCALE:GREGORIAN
METHOD:PUBLISH
X-WR-CALNAME:Coach House Pub
X-ORIGINAL-URL:https://coachhousepub.com
X-WR-CALDESC:Events for Coach House Pub
REFRESH-INTERVAL;VALUE=DURATION:PT1H
X-Robots-Tag:noindex
X-PUBLISHED-TTL:PT1H
BEGIN:VTIMEZONE
TZID:UTC
BEGIN:STANDARD
TZOFFSETFROM:+0000
TZOFFSETTO:+0000
TZNAME:UTC
DTSTART:20240101T000000
END:STANDARD
END:VTIMEZONE
BEGIN:VEVENT
DTSTART;TZID=UTC:20250830T140000
DTEND;TZID=UTC:20250830T170000
DTSTAMP:20260419T143628
CREATED:20250617T150924Z
LAST-MODIFIED:20250617T150924Z
UID:1239-1756562400-1756573200@coachhousepub.com
SUMMARY:Darren Bailey - Sat Aug 30
DESCRIPTION:Come spend the afternoon with Darren Bailey as he plays your favourite songs at the Coach House Pub Patio Sessions on Saturday\, August 30 from 2:00 until 5:00 pm
URL:https://coachhousepub.com/event/darren-bailey-sat-aug-30/
LOCATION:Coach House Pub\, 3 Felcher Boulevard\, Stouffville\, Ontario\, L4A 7X4\, Canada
CATEGORIES:MUSIC
ATTACH;FMTTYPE=image/jpeg:https://coachhousepub.com/wp-content/uploads/2025/06/darren-bailey.jpg
ORGANIZER;CN="COACH HOUSE PUB PATIO SESSIONS":MAILTO:coachhousepub1@gmail.com
END:VEVENT
END:VCALENDAR