BEGIN:VCALENDAR
VERSION:2.0
PRODID:-//Coach House Pub - ECPv6.15.20//NONSGML v1.0//EN
CALSCALE:GREGORIAN
METHOD:PUBLISH
X-ORIGINAL-URL:https://coachhousepub.com
X-WR-CALDESC:Events for Coach House Pub
REFRESH-INTERVAL;VALUE=DURATION:PT1H
X-Robots-Tag:noindex
X-PUBLISHED-TTL:PT1H
BEGIN:VTIMEZONE
TZID:UTC
BEGIN:STANDARD
TZOFFSETFROM:+0000
TZOFFSETTO:+0000
TZNAME:UTC
DTSTART:20240101T000000
END:STANDARD
END:VTIMEZONE
BEGIN:VEVENT
DTSTART;TZID=UTC:20250816T140000
DTEND;TZID=UTC:20250816T170000
DTSTAMP:20260419T143925
CREATED:20250715T160329Z
LAST-MODIFIED:20250715T160329Z
UID:1262-1755352800-1755363600@coachhousepub.com
SUMMARY:Dave Lyon Band 2.0 - Sat Aug 16
DESCRIPTION:Come join the fun as the Dave Lyon Band 2.0 takes over the Coach House Pub Patio Sessions on Saturday August 16 from 2:00 until 5:00 pm
URL:https://coachhousepub.com/event/dave-lyon-band-2-0-sat-aug-16/
LOCATION:Coach House Pub\, 3 Felcher Boulevard\, Stouffville\, Ontario\, L4A 7X4\, Canada
CATEGORIES:MUSIC
ATTACH;FMTTYPE=image/jpeg:https://coachhousepub.com/wp-content/uploads/2025/07/Dave-Lyons-new-band.jpg
ORGANIZER;CN="COACH HOUSE PUB PATIO SESSIONS":MAILTO:coachhousepub1@gmail.com
END:VEVENT
END:VCALENDAR