BEGIN:VCALENDAR
VERSION:2.0
PRODID:-//Coach House Pub - ECPv6.15.20//NONSGML v1.0//EN
CALSCALE:GREGORIAN
METHOD:PUBLISH
X-ORIGINAL-URL:https://coachhousepub.com
X-WR-CALDESC:Events for Coach House Pub
REFRESH-INTERVAL;VALUE=DURATION:PT1H
X-Robots-Tag:noindex
X-PUBLISHED-TTL:PT1H
BEGIN:VTIMEZONE
TZID:UTC
BEGIN:STANDARD
TZOFFSETFROM:+0000
TZOFFSETTO:+0000
TZNAME:UTC
DTSTART:20220101T000000
END:STANDARD
END:VTIMEZONE
BEGIN:VEVENT
DTSTART;TZID=UTC:20230317T140000
DTEND;TZID=UTC:20230317T180000
DTSTAMP:20260423T022811
CREATED:20230301T135159Z
LAST-MODIFIED:20230320T120010Z
UID:897-1679061600-1679076000@coachhousepub.com
SUMMARY:St Paddy's Day with Dave Lyon & friends - Fri Mar 17
DESCRIPTION:Come be Irish for the day on St Patrick’s Day and join in the fun as Dave Lyon and friends turn the Coach House into a party with green beer\, special menu\, Irish tunes and a great time… \nreserve your table or give us a call at 905-640-8118
URL:https://coachhousepub.com/event/st-paddys-day-with-dave-lyon-friends-fri-mar-17/
LOCATION:Coach House Pub\, 3 Felcher Boulevard\, Stouffville\, Ontario\, L4A 7X4\, Canada
CATEGORIES:MUSIC,special meal
END:VEVENT
END:VCALENDAR