BEGIN:VCALENDAR
VERSION:2.0
PRODID:-//Coach House Pub - ECPv6.15.20//NONSGML v1.0//EN
CALSCALE:GREGORIAN
METHOD:PUBLISH
X-ORIGINAL-URL:https://coachhousepub.com
X-WR-CALDESC:Events for Coach House Pub
REFRESH-INTERVAL;VALUE=DURATION:PT1H
X-Robots-Tag:noindex
X-PUBLISHED-TTL:PT1H
BEGIN:VTIMEZONE
TZID:UTC
BEGIN:STANDARD
TZOFFSETFROM:+0000
TZOFFSETTO:+0000
TZNAME:UTC
DTSTART:20210101T000000
END:STANDARD
END:VTIMEZONE
BEGIN:VEVENT
DTSTART;TZID=UTC:20220317T110000
DTEND;TZID=UTC:20220317T200000
DTSTAMP:20260423T180733
CREATED:20220314T205054Z
LAST-MODIFIED:20220314T205353Z
UID:557-1647514800-1647547200@coachhousepub.com
SUMMARY:St Paddy's Day - March 17
DESCRIPTION:Come celebrate St Patrick’s Day at the Coach House Pub from 11:00 am until 9:00 pm on Thursday March 17 \n• Live Music from 2:00 – 5:00 pm\n• Great food & drinks\n• Great weather and the Beer Garden will be open \nReserve your spot or give us a call at 905-640-8118
URL:https://coachhousepub.com/event/st-paddys-day-march-17/
LOCATION:Coach House Pub\, 3 Felcher Boulevard\, Stouffville\, Ontario\, L4A 7X4\, Canada
CATEGORIES:MUSIC
END:VEVENT
END:VCALENDAR