BEGIN:VCALENDAR
VERSION:2.0
PRODID:-//Coach House Pub - ECPv6.15.20//NONSGML v1.0//EN
CALSCALE:GREGORIAN
METHOD:PUBLISH
X-WR-CALNAME:Coach House Pub
X-ORIGINAL-URL:https://coachhousepub.com
X-WR-CALDESC:Events for Coach House Pub
REFRESH-INTERVAL;VALUE=DURATION:PT1H
X-Robots-Tag:noindex
X-PUBLISHED-TTL:PT1H
BEGIN:VTIMEZONE
TZID:UTC
BEGIN:STANDARD
TZOFFSETFROM:+0000
TZOFFSETTO:+0000
TZNAME:UTC
DTSTART:20200101T000000
END:STANDARD
END:VTIMEZONE
BEGIN:VEVENT
DTSTART;TZID=UTC:20211106T130000
DTEND;TZID=UTC:20211106T160000
DTSTAMP:20260423T223550
CREATED:20211103T111626Z
LAST-MODIFIED:20211103T193757Z
UID:357-1636203600-1636214400@coachhousepub.com
SUMMARY:Grant Fullerton - Saturday November 6
DESCRIPTION:Come enjoy the final Patio Sessions Saturday of 2021 as Canadian Rock’n’Roll Legend\, Grant Fullerton takes the Coach House Pub Patio Sessions stage on Saturday\, November 6 from 1:00 – 4:00 pm. \nReserve your table at reservations or gives us a shout at 905-640-8118
URL:https://coachhousepub.com/event/grant-fullerton-saturday-october-16/
LOCATION:Coach House Pub\, 3 Felcher Boulevard\, Stouffville\, Ontario\, L4A 7X4\, Canada
CATEGORIES:MUSIC
ORGANIZER;CN="COACH HOUSE PUB PATIO SESSIONS":MAILTO:coachhousepub1@gmail.com
END:VEVENT
BEGIN:VEVENT
DTSTART;TZID=UTC:20211107T130000
DTEND;TZID=UTC:20211107T160000
DTSTAMP:20260423T223550
CREATED:20211103T173833Z
LAST-MODIFIED:20211103T193737Z
UID:408-1636290000-1636300800@coachhousepub.com
SUMMARY:The Pheromones - Sunday November 7
DESCRIPTION:Come enjoy the final Patio Sessions Sunday of 2021 as The Pheromones takes the Coach House Pub Patio Sessions stage on Sunday\, November 7 from 1:00 – 4:00 pm. \nReserve your table at reservations or give us a shout at 905-640-8118
URL:https://coachhousepub.com/event/the-pheromones-sunday-november-7/
LOCATION:Coach House Pub\, 3 Felcher Boulevard\, Stouffville\, Ontario\, L4A 7X4\, Canada
CATEGORIES:MUSIC
END:VEVENT
END:VCALENDAR