BEGIN:VCALENDAR
VERSION:2.0
PRODID:-//Coach House Pub - ECPv6.15.20//NONSGML v1.0//EN
CALSCALE:GREGORIAN
METHOD:PUBLISH
X-WR-CALNAME:Coach House Pub
X-ORIGINAL-URL:https://coachhousepub.com
X-WR-CALDESC:Events for Coach House Pub
REFRESH-INTERVAL;VALUE=DURATION:PT1H
X-Robots-Tag:noindex
X-PUBLISHED-TTL:PT1H
BEGIN:VTIMEZONE
TZID:UTC
BEGIN:STANDARD
TZOFFSETFROM:+0000
TZOFFSETTO:+0000
TZNAME:UTC
DTSTART:20210101T000000
END:STANDARD
END:VTIMEZONE
BEGIN:VEVENT
DTSTART;TZID=UTC:20220924T140000
DTEND;TZID=UTC:20220924T170000
DTSTAMP:20260419T200609
CREATED:20220808T182915Z
LAST-MODIFIED:20220808T182915Z
UID:717-1664028000-1664038800@coachhousepub.com
SUMMARY:Grant Fullerton Saturday September 24
DESCRIPTION:Come join Canadian Rock n Roll Ledgen Grant Fullerton as he rocks the Coach house Pub Patio Sessions stage on Saturday September 24 from 2:00 until 5:00.\nReserve your table or give us a call at 905-640-8118 and let us know if you would like to stay for dinner after 5:00.\n\nCome see why we won Readers’ Choice Awards for\n– Best Live Music Pub\n– Best Fish & Chips\n– Best Lunch\n– Best Takeaway\n\nPlease note there is a 15-minute max grace period for reservations.
URL:https://coachhousepub.com/event/grant-fullerton-saturday-september-24/
LOCATION:Coach House Pub\, 3 Felcher Boulevard\, Stouffville\, Ontario\, L4A 7X4\, Canada
CATEGORIES:MUSIC
ORGANIZER;CN="COACH HOUSE PUB PATIO SESSIONS":MAILTO:coachhousepub1@gmail.com
END:VEVENT
END:VCALENDAR