BEGIN:VCALENDAR
VERSION:2.0
PRODID:-//Coach House Pub - ECPv6.15.20//NONSGML v1.0//EN
CALSCALE:GREGORIAN
METHOD:PUBLISH
X-ORIGINAL-URL:https://coachhousepub.com
X-WR-CALDESC:Events for Coach House Pub
REFRESH-INTERVAL;VALUE=DURATION:PT1H
X-Robots-Tag:noindex
X-PUBLISHED-TTL:PT1H
BEGIN:VTIMEZONE
TZID:UTC
BEGIN:STANDARD
TZOFFSETFROM:+0000
TZOFFSETTO:+0000
TZNAME:UTC
DTSTART:20210101T000000
END:STANDARD
END:VTIMEZONE
BEGIN:VEVENT
DTSTART;TZID=UTC:20220917T120000
DTEND;TZID=UTC:20220917T180000
DTSTAMP:20260419T200717
CREATED:20220808T172639Z
LAST-MODIFIED:20220830T142230Z
UID:713-1663416000-1663437600@coachhousepub.com
SUMMARY:5th Annual Coach House Pub Golf Tournament
DESCRIPTION:Come join in our 5th Annual Coach House Pub Golf Tournament (the first post-Covid!)\n\nOn Saturday\, September 17\, a fun afternoon with Closest to the Hole Events as well as a “Beat the Pro” Competition.\n\nSign Up as a single or put together a foursome. Entry is $75/person and includes 18 holes with cart (Scramble Format) and a Coach House Pur participation gift.\n\nRegister at the bar.\n\nWe look forward to seeing everyone for a great afternoon.\n\nCheers!
URL:https://coachhousepub.com/event/5th-annual-coach-house-pub-golf-tournament/
LOCATION:Mill Run Golf Course\, 269 Durham Regional Rd 8\, Uxbridge\, ON\, L9P 1R1\, Canada
CATEGORIES:golf tournament
END:VEVENT
END:VCALENDAR