BEGIN:VCALENDAR
VERSION:2.0
PRODID:-//Coach House Pub - ECPv6.15.20//NONSGML v1.0//EN
CALSCALE:GREGORIAN
METHOD:PUBLISH
X-WR-CALNAME:Coach House Pub
X-ORIGINAL-URL:https://coachhousepub.com
X-WR-CALDESC:Events for Coach House Pub
REFRESH-INTERVAL;VALUE=DURATION:PT1H
X-Robots-Tag:noindex
X-PUBLISHED-TTL:PT1H
BEGIN:VTIMEZONE
TZID:UTC
BEGIN:STANDARD
TZOFFSETFROM:+0000
TZOFFSETTO:+0000
TZNAME:UTC
DTSTART:20210101T000000
END:STANDARD
END:VTIMEZONE
BEGIN:VEVENT
DTSTART;TZID=UTC:20220904T140000
DTEND;TZID=UTC:20220904T170000
DTSTAMP:20260419T200609
CREATED:20220828T125132Z
LAST-MODIFIED:20220830T140215Z
UID:721-1662300000-1662310800@coachhousepub.com
SUMMARY:Brian Larter & Dave Lyon - Sunday September 4
DESCRIPTION:Come join Brian Larter and Dave Lyon as they take over the Coach House Pub Patio Sessions stage on Sunday September 4 for an afternoon of music and fun as they present ‘When we were fab!’\n\nReserve your table at www.coachhousepub.com or call us at 905-640-8118
URL:https://coachhousepub.com/event/brian-larter-and-friends-sunday-september-4/
LOCATION:Coach House Pub\, 3 Felcher Boulevard\, Stouffville\, Ontario\, L4A 7X4\, Canada
CATEGORIES:MUSIC
ORGANIZER;CN="COACH HOUSE PUB PATIO SESSIONS":MAILTO:coachhousepub1@gmail.com
END:VEVENT
END:VCALENDAR