BEGIN:VCALENDAR
VERSION:2.0
PRODID:-//Coach House Pub - ECPv6.15.20//NONSGML v1.0//EN
CALSCALE:GREGORIAN
METHOD:PUBLISH
X-ORIGINAL-URL:https://coachhousepub.com
X-WR-CALDESC:Events for Coach House Pub
REFRESH-INTERVAL;VALUE=DURATION:PT1H
X-Robots-Tag:noindex
X-PUBLISHED-TTL:PT1H
BEGIN:VTIMEZONE
TZID:UTC
BEGIN:STANDARD
TZOFFSETFROM:+0000
TZOFFSETTO:+0000
TZNAME:UTC
DTSTART:20210101T000000
END:STANDARD
END:VTIMEZONE
BEGIN:VEVENT
DTSTART;TZID=UTC:20220626T140000
DTEND;TZID=UTC:20220626T170000
DTSTAMP:20260419T235803
CREATED:20220613T162237Z
LAST-MODIFIED:20220615T163111Z
UID:672-1656252000-1656262800@coachhousepub.com
SUMMARY:Mike Burns & Jon Ison - Saturday June 26
DESCRIPTION:Come spend a wonderful afternoon at the Coach House Pub Patio Sessions as Mike Burns and Jonathan Ison take the stage on Sunday\, June 26 from 2:00 until 5:00 pm. \nReserve your table or give us a call at 905-640-8118 and let us know if you would like to stay for dinner after 5:00. \nCome see why we won 4 Readers’ Choice Awards for \n– Best Live Music Pub \n– Best Fish & Chips \n– Best Lunch \n– Best Takeaway \n  \nPlease note there is a 15-minute max grace period for reservations.
URL:https://coachhousepub.com/event/mike-burns-jon-ison/
LOCATION:Coach House Pub\, 3 Felcher Boulevard\, Stouffville\, Ontario\, L4A 7X4\, Canada
CATEGORIES:MUSIC
ORGANIZER;CN="COACH HOUSE PUB PATIO SESSIONS":MAILTO:coachhousepub1@gmail.com
END:VEVENT
END:VCALENDAR