BEGIN:VCALENDAR
VERSION:2.0
PRODID:-//Coach House Pub - ECPv6.15.20//NONSGML v1.0//EN
CALSCALE:GREGORIAN
METHOD:PUBLISH
X-WR-CALNAME:Coach House Pub
X-ORIGINAL-URL:https://coachhousepub.com
X-WR-CALDESC:Events for Coach House Pub
REFRESH-INTERVAL;VALUE=DURATION:PT1H
X-Robots-Tag:noindex
X-PUBLISHED-TTL:PT1H
BEGIN:VTIMEZONE
TZID:UTC
BEGIN:STANDARD
TZOFFSETFROM:+0000
TZOFFSETTO:+0000
TZNAME:UTC
DTSTART:20210101T000000
END:STANDARD
END:VTIMEZONE
BEGIN:VEVENT
DTSTART;TZID=UTC:20220605T140000
DTEND;TZID=UTC:20220605T170000
DTSTAMP:20260419T233726
CREATED:20220525T150615Z
LAST-MODIFIED:20220530T164155Z
UID:637-1654437600-1654448400@coachhousepub.com
SUMMARY:David Wildsmith - Sunday June 5
DESCRIPTION:Come spend Sunday\, June 5 as David Wildsmith takes over the Coach House Patio Pub Patio Sessions stage and see why we are Reader’s Choice Best Live Music Pub. \nReserve your table at www.coachhousepub.com or give us a call at 905-640-8118
URL:https://coachhousepub.com/event/david-wildsmith-sunday-june-5/
LOCATION:Coach House Pub\, 3 Felcher Boulevard\, Stouffville\, Ontario\, L4A 7X4\, Canada
CATEGORIES:MUSIC
ORGANIZER;CN="COACH HOUSE PUB PATIO SESSIONS":MAILTO:coachhousepub1@gmail.com
END:VEVENT
END:VCALENDAR