BEGIN:VCALENDAR
VERSION:2.0
PRODID:-//Coach House Pub - ECPv6.15.20//NONSGML v1.0//EN
CALSCALE:GREGORIAN
METHOD:PUBLISH
X-WR-CALNAME:Coach House Pub
X-ORIGINAL-URL:https://coachhousepub.com
X-WR-CALDESC:Events for Coach House Pub
REFRESH-INTERVAL;VALUE=DURATION:PT1H
X-Robots-Tag:noindex
X-PUBLISHED-TTL:PT1H
BEGIN:VTIMEZONE
TZID:UTC
BEGIN:STANDARD
TZOFFSETFROM:+0000
TZOFFSETTO:+0000
TZNAME:UTC
DTSTART:20210101T000000
END:STANDARD
END:VTIMEZONE
BEGIN:VEVENT
DTSTART;TZID=UTC:20220521T140000
DTEND;TZID=UTC:20220521T170000
DTSTAMP:20260420T011130
CREATED:20220516T101031Z
LAST-MODIFIED:20220516T141411Z
UID:595-1653141600-1653152400@coachhousepub.com
SUMMARY:Dave Lyon Band - Saturday May 21
DESCRIPTION:Come to the opening day of the Coach House Pub Patio Sessions as the Dave Lyon Band takes the stage and rocks the afternoon.\n\nLive music is back at the award-winning Reader’s choice best live music Pub!\n\nReserve your table online or call us at 905-640-8118
URL:https://coachhousepub.com/event/dave-lyon-band-saturday-may-21/
LOCATION:Coach House Pub\, 3 Felcher Boulevard\, Stouffville\, Ontario\, L4A 7X4\, Canada
CATEGORIES:MUSIC
ORGANIZER;CN="COACH HOUSE PUB PATIO SESSIONS":MAILTO:coachhousepub1@gmail.com
END:VEVENT
END:VCALENDAR