BEGIN:VCALENDAR
VERSION:2.0
PRODID:-//Coach House Pub - ECPv6.15.20//NONSGML v1.0//EN
CALSCALE:GREGORIAN
METHOD:PUBLISH
X-WR-CALNAME:Coach House Pub
X-ORIGINAL-URL:https://coachhousepub.com
X-WR-CALDESC:Events for Coach House Pub
REFRESH-INTERVAL;VALUE=DURATION:PT1H
X-Robots-Tag:noindex
X-PUBLISHED-TTL:PT1H
BEGIN:VTIMEZONE
TZID:UTC
BEGIN:STANDARD
TZOFFSETFROM:+0000
TZOFFSETTO:+0000
TZNAME:UTC
DTSTART:20210101T000000
END:STANDARD
END:VTIMEZONE
BEGIN:VEVENT
DTSTART;TZID=UTC:20220409T140000
DTEND;TZID=UTC:20220409T170000
DTSTAMP:20260420T022402
CREATED:20220108T212712Z
LAST-MODIFIED:20220530T163707Z
UID:579-1649512800-1649523600@coachhousepub.com
SUMMARY:Piano Man Brain Larter - April 9
DESCRIPTION:Come join in the fun this Saturday at the Coach House Pub as Stouffville’s Piano Man Brian Larter brings his 88 keys to life and rocks the Pub!\nThe show starts at 2:00 and may end at 5:00pm…\n\n\n\nReservations at www.coachhousepub.com or give us a call at 905-640-8118
URL:https://coachhousepub.com/event/piano-man-brain-larter-april-9/
LOCATION:Coach House Pub\, 3 Felcher Boulevard\, Stouffville\, Ontario\, L4A 7X4\, Canada
CATEGORIES:MUSIC
END:VEVENT
END:VCALENDAR