BEGIN:VCALENDAR
VERSION:2.0
PRODID:-//Coach House Pub - ECPv6.15.20//NONSGML v1.0//EN
CALSCALE:GREGORIAN
METHOD:PUBLISH
X-ORIGINAL-URL:https://coachhousepub.com
X-WR-CALDESC:Events for Coach House Pub
REFRESH-INTERVAL;VALUE=DURATION:PT1H
X-Robots-Tag:noindex
X-PUBLISHED-TTL:PT1H
BEGIN:VTIMEZONE
TZID:UTC
BEGIN:STANDARD
TZOFFSETFROM:+0000
TZOFFSETTO:+0000
TZNAME:UTC
DTSTART:20200101T000000
END:STANDARD
END:VTIMEZONE
BEGIN:VEVENT
DTSTART;TZID=UTC:20211103T170000
DTEND;TZID=UTC:20220331T210000
DTSTAMP:20260420T050808
CREATED:20211103T174927Z
LAST-MODIFIED:20211119T144644Z
UID:410-1635958800-1648760400@coachhousepub.com
SUMMARY:Chef Craigs Dinner Specials
DESCRIPTION:Looking for an incredible gastropub meal? Then come try Chef Craig’s Dinner Specials serving from 5:00 pm Thursday through Sunday. \nReserve your table or give us a call at 905-640-8118
URL:https://coachhousepub.com/event/chef-craigs-dinner-specials/
LOCATION:Ontario
END:VEVENT
BEGIN:VEVENT
DTSTART;VALUE=DATE:20211119
DTEND;VALUE=DATE:20220401
DTSTAMP:20260420T050808
CREATED:20211111T173537Z
LAST-MODIFIED:20211119T145130Z
UID:431-1637280000-1648771199@coachhousepub.com
SUMMARY:Gastropub dining just got elevated
DESCRIPTION:Our Kitchen Reno is complete and now we’re bigger and better to make you dining experience even more enjoyable. Chef Craig is excited to elevate the Coach House Pub gastropub to a new level get ready for a whole new taste experience with diner features after 5:00 pm. \nreserve you table or give us a call at 905-640-8118
URL:https://coachhousepub.com/event/new-kitchen/
LOCATION:Coach House Pub\, 3 Felcher Boulevard\, Stouffville\, Ontario\, L4A 7X4\, Canada
ATTACH;FMTTYPE=image/jpeg:https://coachhousepub.com/wp-content/uploads/2021/11/Gastropub-dining-just-got-elevated-1080-x-1920-px-1920-x-1080-px.jpg
END:VEVENT
BEGIN:VEVENT
DTSTART;TZID=UTC:20211126T110000
DTEND;TZID=UTC:20220331T210000
DTSTAMP:20260420T050808
CREATED:20211126T220520Z
LAST-MODIFIED:20211126T220735Z
UID:451-1637924400-1648760400@coachhousepub.com
SUMMARY:Roast Sundays at the Coach House Pub
DESCRIPTION:Make Sunday ‘ROAST SUNDAY’ at the Coach House Pub. Enjoy a traditional Sunday meal featuring Chef Craig’s roast choice of the week with all the fixings.
URL:https://coachhousepub.com/event/roast-sundays-at-the-coach-house-pub/
LOCATION:Coach House Pub\, 3 Felcher Boulevard\, Stouffville\, Ontario\, L4A 7X4\, Canada
ATTACH;FMTTYPE=image/jpeg:https://coachhousepub.com/wp-content/uploads/2021/11/roast-Sunday-at-the-coach-1920-x-1080-px.jpg
END:VEVENT
BEGIN:VEVENT
DTSTART;TZID=UTC:20220201T120000
DTEND;TZID=UTC:20220327T200000
DTSTAMP:20260420T050808
CREATED:20211223T213707Z
LAST-MODIFIED:20220207T211446Z
UID:467-1643716800-1648411200@coachhousepub.com
SUMMARY:Take Out Mains and Sandwiches
DESCRIPTION:The Coach House Pub is open for in-pub dining or take out daily from noon until 8:00 pm. \nNow you can have a great pub meal either in pub or take the great tastes of the Coach House home! \nCheck out our in-pub and Take Out Mains and Sandwiches menus… call to reserve a spot or to order and schedule your pick up at 905-640-8118. \nWe are open from 12:00 pm until 8:00 pm every day of the week.
URL:https://coachhousepub.com/event/holiday-hours/
LOCATION:Coach House Pub\, 3 Felcher Boulevard\, Stouffville\, Ontario\, L4A 7X4\, Canada
ATTACH;FMTTYPE=image/jpeg:https://coachhousepub.com/wp-content/uploads/2021/12/Copy-of-Gastropub-dining-just-got-elevated-1080-x-1920-px-1920-x-1080-px-4.jpg
END:VEVENT
END:VCALENDAR