BEGIN:VCALENDAR
VERSION:2.0
PRODID:-//Coach House Pub - ECPv6.15.20//NONSGML v1.0//EN
CALSCALE:GREGORIAN
METHOD:PUBLISH
X-ORIGINAL-URL:https://coachhousepub.com
X-WR-CALDESC:Events for Coach House Pub
REFRESH-INTERVAL;VALUE=DURATION:PT1H
X-Robots-Tag:noindex
X-PUBLISHED-TTL:PT1H
BEGIN:VTIMEZONE
TZID:UTC
BEGIN:STANDARD
TZOFFSETFROM:+0000
TZOFFSETTO:+0000
TZNAME:UTC
DTSTART:20200101T000000
END:STANDARD
END:VTIMEZONE
BEGIN:VEVENT
DTSTART;TZID=UTC:20211002T140000
DTEND;TZID=UTC:20211002T170000
DTSTAMP:20260422T110018
CREATED:20210920T143438Z
LAST-MODIFIED:20210920T143438Z
UID:343-1633183200-1633194000@coachhousepub.com
SUMMARY:Screaming Evil Blues Band - Saturday October 2
DESCRIPTION:Come catch the Screaming Evil Blues Band as they take the stage at the Coach House Pub Patio Sessions on Saturday\, October 2 from 2:00 until 5:00 pm.\nCall to reserve your table on the patio at 905-640-8118 or go to reservations
URL:https://coachhousepub.com/event/screaming-evil-blues-band-saturday-october-2/
LOCATION:Coach House Pub\, 3 Felcher Boulevard\, Stouffville\, Ontario\, L4A 7X4\, Canada
ORGANIZER;CN="COACH HOUSE PUB PATIO SESSIONS":MAILTO:coachhousepub1@gmail.com
END:VEVENT
END:VCALENDAR