BEGIN:VCALENDAR
VERSION:2.0
PRODID:-//Coach House Pub - ECPv6.15.20//NONSGML v1.0//EN
CALSCALE:GREGORIAN
METHOD:PUBLISH
X-ORIGINAL-URL:https://coachhousepub.com
X-WR-CALDESC:Events for Coach House Pub
REFRESH-INTERVAL;VALUE=DURATION:PT1H
X-Robots-Tag:noindex
X-PUBLISHED-TTL:PT1H
BEGIN:VTIMEZONE
TZID:UTC
BEGIN:STANDARD
TZOFFSETFROM:+0000
TZOFFSETTO:+0000
TZNAME:UTC
DTSTART:20200101T000000
END:STANDARD
END:VTIMEZONE
BEGIN:VEVENT
DTSTART;TZID=UTC:20210926T140000
DTEND;TZID=UTC:20210926T170000
DTSTAMP:20260422T133001
CREATED:20210919T203740Z
LAST-MODIFIED:20210920T143643Z
UID:330-1632664800-1632675600@coachhousepub.com
SUMMARY:Kevin Ker - Sunday September 26
DESCRIPTION:Come catch Stouffville’s Kevin Ker as he takes the stage of the Coach House Pub Patio Sessions from 2:00 till 5:00 pm on Sunday\, September 26. \nReserve your table or give us a call at 905-640-8118
URL:https://coachhousepub.com/event/kevin-ker-sunday-september-26/
LOCATION:Coach House Pub\, 3 Felcher Boulevard\, Stouffville\, Ontario\, L4A 7X4\, Canada
CATEGORIES:MUSIC
ORGANIZER;CN="COACH HOUSE PUB PATIO SESSIONS":MAILTO:coachhousepub1@gmail.com
END:VEVENT
END:VCALENDAR