BEGIN:VCALENDAR
VERSION:2.0
PRODID:-//Coach House Pub - ECPv6.15.20//NONSGML v1.0//EN
CALSCALE:GREGORIAN
METHOD:PUBLISH
X-WR-CALNAME:Coach House Pub
X-ORIGINAL-URL:https://coachhousepub.com
X-WR-CALDESC:Events for Coach House Pub
REFRESH-INTERVAL;VALUE=DURATION:PT1H
X-Robots-Tag:noindex
X-PUBLISHED-TTL:PT1H
BEGIN:VTIMEZONE
TZID:UTC
BEGIN:STANDARD
TZOFFSETFROM:+0000
TZOFFSETTO:+0000
TZNAME:UTC
DTSTART:20200101T000000
END:STANDARD
END:VTIMEZONE
BEGIN:VEVENT
DTSTART;TZID=UTC:20210911T140000
DTEND;TZID=UTC:20210911T170000
DTSTAMP:20260422T132934
CREATED:20210903T142925Z
LAST-MODIFIED:20230511T141813Z
UID:312-1631368800-1631379600@coachhousepub.com
SUMMARY:Grant Fullerton - Saturday September 11
DESCRIPTION:Come spend an afternoon with Canadian Rock and Roll Legend Grant Fullerton as he takes over the Coach House Pub Patio Sessions stage from 2:00 until 5:00.\nReserve your table today here or give us a shout at 905-640-8118
URL:https://coachhousepub.com/event/grant-fullerton-saturday-september-11/
LOCATION:Coach House Pub\, 3 Felcher Boulevard\, Stouffville\, Ontario\, L4A 7X4\, Canada
ORGANIZER;CN="COACH HOUSE PUB PATIO SESSIONS":MAILTO:coachhousepub1@gmail.com
END:VEVENT
END:VCALENDAR