BEGIN:VCALENDAR
VERSION:2.0
PRODID:-//Coach House Pub - ECPv6.15.20//NONSGML v1.0//EN
CALSCALE:GREGORIAN
METHOD:PUBLISH
X-ORIGINAL-URL:https://coachhousepub.com
X-WR-CALDESC:Events for Coach House Pub
REFRESH-INTERVAL;VALUE=DURATION:PT1H
X-Robots-Tag:noindex
X-PUBLISHED-TTL:PT1H
BEGIN:VTIMEZONE
TZID:UTC
BEGIN:STANDARD
TZOFFSETFROM:+0000
TZOFFSETTO:+0000
TZNAME:UTC
DTSTART:20200101T000000
END:STANDARD
END:VTIMEZONE
BEGIN:VEVENT
DTSTART;TZID=UTC:20210904T140000
DTEND;TZID=UTC:20210904T170000
DTSTAMP:20260422T121657
CREATED:20210903T092546Z
LAST-MODIFIED:20210903T142528Z
UID:126-1630764000-1630774800@coachhousepub.com
SUMMARY:David Wildsmith - Saturday September 4
DESCRIPTION:Come enjoy an afternoon of great music as David Wildsmith takes the Coach House Pub Patio Sessions stage on Saturday September 4 from 2:00 – 5:00 pm.\n\n\nmake a reservation or call us at 905-640-8118.
URL:https://coachhousepub.com/event/david-wildsmith-august-7/
LOCATION:Coach House Pub\, 3 Felcher Boulevard\, Stouffville\, Ontario\, L4A 7X4\, Canada
CATEGORIES:MUSIC
ORGANIZER;CN="COACH HOUSE PUB PATIO SESSIONS":MAILTO:coachhousepub1@gmail.com
END:VEVENT
END:VCALENDAR