BEGIN:VCALENDAR
VERSION:2.0
PRODID:-//Coach House Pub - ECPv6.15.20//NONSGML v1.0//EN
CALSCALE:GREGORIAN
METHOD:PUBLISH
X-WR-CALNAME:Coach House Pub
X-ORIGINAL-URL:https://coachhousepub.com
X-WR-CALDESC:Events for Coach House Pub
REFRESH-INTERVAL;VALUE=DURATION:PT1H
X-Robots-Tag:noindex
X-PUBLISHED-TTL:PT1H
BEGIN:VTIMEZONE
TZID:UTC
BEGIN:STANDARD
TZOFFSETFROM:+0000
TZOFFSETTO:+0000
TZNAME:UTC
DTSTART:20200101T000000
END:STANDARD
END:VTIMEZONE
BEGIN:VEVENT
DTSTART;TZID=UTC:20210829T140000
DTEND;TZID=UTC:20210829T170000
DTSTAMP:20260422T170025
CREATED:20210723T203809Z
LAST-MODIFIED:20210903T142400Z
UID:278-1630245600-1630256400@coachhousepub.com
SUMMARY:Erin & Paul - Sunday August 29
DESCRIPTION:Come spend the last Sunday of August listening to the incredible music of Erin & Paul as they perform from 2:00 – 5:00 pm at the Coach House Pub Patio Sessions.\nreserve your tables
URL:https://coachhousepub.com/event/erin-paul-sunday-august-29/
LOCATION:Coach House Pub\, 3 Felcher Boulevard\, Stouffville\, Ontario\, L4A 7X4\, Canada
CATEGORIES:MUSIC
ORGANIZER;CN="COACH HOUSE PUB PATIO SESSIONS":MAILTO:coachhousepub1@gmail.com
END:VEVENT
END:VCALENDAR