BEGIN:VCALENDAR
VERSION:2.0
PRODID:-//Coach House Pub - ECPv6.15.20//NONSGML v1.0//EN
CALSCALE:GREGORIAN
METHOD:PUBLISH
X-WR-CALNAME:Coach House Pub
X-ORIGINAL-URL:https://coachhousepub.com
X-WR-CALDESC:Events for Coach House Pub
REFRESH-INTERVAL;VALUE=DURATION:PT1H
X-Robots-Tag:noindex
X-PUBLISHED-TTL:PT1H
BEGIN:VTIMEZONE
TZID:UTC
BEGIN:STANDARD
TZOFFSETFROM:+0000
TZOFFSETTO:+0000
TZNAME:UTC
DTSTART:20200101T000000
END:STANDARD
END:VTIMEZONE
BEGIN:VEVENT
DTSTART;TZID=UTC:20210814T140000
DTEND;TZID=UTC:20210814T170000
DTSTAMP:20260422T170019
CREATED:20210727T152651Z
LAST-MODIFIED:20210813T190014Z
UID:130-1628949600-1628960400@coachhousepub.com
SUMMARY:Fun with The Pheromones - Saturday August 14
DESCRIPTION:Come have an afternoon of Fun with the Pheremones\, this is an interactive show filled with musical trivia for everyone and a chance to try to stump the band. Show starts at 2:00 pm on Saturday August 14 and goes till 5:00. \nmake a reservations or call us at 905-640-8118. \n  \n 
URL:https://coachhousepub.com/event/fun-with-the-pheromones-august-14/
LOCATION:Coach House Pub\, 3 Felcher Boulevard\, Stouffville\, Ontario\, L4A 7X4\, Canada
CATEGORIES:MUSIC
ORGANIZER;CN="COACH HOUSE PUB PATIO SESSIONS":MAILTO:coachhousepub1@gmail.com
END:VEVENT
END:VCALENDAR