BEGIN:VCALENDAR
VERSION:2.0
PRODID:-//Coach House Pub - ECPv6.15.20//NONSGML v1.0//EN
CALSCALE:GREGORIAN
METHOD:PUBLISH
X-WR-CALNAME:Coach House Pub
X-ORIGINAL-URL:https://coachhousepub.com
X-WR-CALDESC:Events for Coach House Pub
REFRESH-INTERVAL;VALUE=DURATION:PT1H
X-Robots-Tag:noindex
X-PUBLISHED-TTL:PT1H
BEGIN:VTIMEZONE
TZID:UTC
BEGIN:STANDARD
TZOFFSETFROM:+0000
TZOFFSETTO:+0000
TZNAME:UTC
DTSTART:20200101T000000
END:STANDARD
END:VTIMEZONE
BEGIN:VEVENT
DTSTART;TZID=UTC:20210808T140000
DTEND;TZID=UTC:20210808T170000
DTSTAMP:20260422T170026
CREATED:20210726T161821Z
LAST-MODIFIED:20230511T141714Z
UID:143-1628431200-1628442000@coachhousepub.com
SUMMARY:Billy Mac - Sunday August 8 - 2:00 - 5:00 pm
DESCRIPTION:Come out for a fun afternoon of outlaw country as Billy Mac takes the stage at the Coach House Patio Sessions from 2:00 til 5:00 on Sunday August 8… a great place to spend an sunny afternoon.\n\nReservations are recommended and can be made via our website www.coachhousepub.com or by calling us at 905-640-8118.
URL:https://coachhousepub.com/event/billy-mac-sunday-august-8-200-500-pm/
LOCATION:Coach House Pub\, 3 Felcher Boulevard\, Stouffville\, Ontario\, L4A 7X4\, Canada
CATEGORIES:MUSIC
ORGANIZER;CN="COACH HOUSE PUB PATIO SESSIONS":MAILTO:coachhousepub1@gmail.com
END:VEVENT
END:VCALENDAR